BEGIN:VCALENDAR
VERSION:2.0
METHOD:PUBLISH
PRODID:-//Agenda.ad//NONSGML v1.0//EN
BEGIN:VEVENT
CLASS:PUBLIC
UID:a5cb41a3a4ebe70541c957e7a928d97e@agenda.ad
DTSTAMP:20260419T164149Z
DTSTART:20260119T230000Z
DTEND:20260330T220000Z
SUMMARY:Cicle de Cinema de Muntanya i Viatges Ordino-La Massana "<em>Imatges sense fronteres</em>"
DESCRIPTION:Cicle de Cinema de Muntanya i Viatges Ordino-La Massana "Ima
 tges sense fronteres"\n\nMés informació\nhttps://www.agend
 a.ad/activitat/la-massana/exposicions/cicle-de-cinema-de-mun
 tanya-i-viatges-ordino-la-massana-imatges-sense-fronteres\n\
 n\nOrganitza\nComuns d'Ordino i La Massana
LOCATION:Biblioteca Comunal de la Massana
SEQUENCE:0
TRANSP:OPAQUE
X-ALT-DESC;FMTTYPE=text/html:<!DOCTYPE HTML PUBLIC "-//W3C//DTD HTML 3.2//EN"><HTML><HEAD
 ><TITLE></TITLE></HEAD><BODY><FONT FACE="Arial" SIZE=2>Cicle
  de Cinema de Muntanya i Viatges Ordino-La Massana "<em>Imat
 ges sense fronteres</em>"<br/><br/><b>Més informació</b><b
 r/><a href="https://www.agenda.ad/activitat/la-massana/expos
 icions/cicle-de-cinema-de-muntanya-i-viatges-ordino-la-massa
 na-imatges-sense-fronteres">https://www.agenda.ad/activitat/
 la-massana/exposicions/cicle-de-cinema-de-muntanya-i-viatges
 -ordino-la-massana-imatges-sense-fronteres</a><br/><br/><br/
 ><b>Organitza</b><br/>Comuns d'Ordino i La Massana</FONT></B
 ODY></HTML>
END:VEVENT
END:VCALENDAR