BEGIN:VCALENDAR
VERSION:2.0
METHOD:PUBLISH
PRODID:-//Agenda.ad//NONSGML v1.0//EN
BEGIN:VEVENT
CLASS:PUBLIC
UID:f71ee876b6af3cac397e89f82b503ef1@agenda.ad
DTSTAMP:20260419T190202Z
DTSTART:20260129T230000Z
DTEND:20260313T230000Z
SUMMARY:&ldquo;<strong>Pintures de Maren</strong>&rdquo; de l&rsquo;il&middot;lustrador <strong>Maren</strong>
DESCRIPTION:\n\nMés informació\nhttps://www.agenda.ad/activitat/la-mas
 sana/exposicions/“pintures-de-maren”-de-lillustrador-mar
 en\n\n\nOrganitza\nL'ARCA
LOCATION:Museu del Còmic
SEQUENCE:0
TRANSP:OPAQUE
X-ALT-DESC;FMTTYPE=text/html:<!DOCTYPE HTML PUBLIC "-//W3C//DTD HTML 3.2//EN"><HTML><HEAD
 ><TITLE></TITLE></HEAD><BODY><FONT FACE="Arial" SIZE=2><br/>
 <br/><b>Més informació</b><br/><a href="https://www.agenda
 .ad/activitat/la-massana/exposicions/“pintures-de-maren”
 -de-lillustrador-maren">https://www.agenda.ad/activitat/la-m
 assana/exposicions/“pintures-de-maren”-de-lillustrador-m
 aren</a><br/><br/><br/><b>Organitza</b><br/>L'ARCA</FONT></B
 ODY></HTML>
END:VEVENT
END:VCALENDAR