BEGIN:VCALENDAR
VERSION:2.0
METHOD:PUBLISH
PRODID:-//Agenda.ad//NONSGML v1.0//EN
BEGIN:VEVENT
CLASS:PUBLIC
UID:1051976c3a6c13d30e547cbc885f8fda@agenda.ad
DTSTAMP:20260421T164831Z
DTSTART:20260422T220000Z
DTEND:20260424T220000Z
SUMMARY:Diada de Sant Jordi 2026
DESCRIPTION:\n\nMés informació\nhttps://www.agenda.ad/activitat/la-mas
 sana/festes-i-tradicions/diada-de-sant-jordi-2026\nDepartame
 nt de Cultura de la Massana\n\nOrganitza\nComú de la Massan
 a
LOCATION:Biblioteca Comunal de la Massana
SEQUENCE:0
TRANSP:OPAQUE
X-ALT-DESC;FMTTYPE=text/html:<!DOCTYPE HTML PUBLIC "-//W3C//DTD HTML 3.2//EN"><HTML><HEAD
 ><TITLE></TITLE></HEAD><BODY><FONT FACE="Arial" SIZE=2><br/>
 <br/><b>Més informació</b><br/><a href="https://www.agenda
 .ad/activitat/la-massana/festes-i-tradicions/diada-de-sant-j
 ordi-2026">https://www.agenda.ad/activitat/la-massana/festes
 -i-tradicions/diada-de-sant-jordi-2026</a><br/>Departament d
 e Cultura de la Massana<br/><br/><b>Organitza</b><br/>Comú 
 de la Massana</FONT></BODY></HTML>
END:VEVENT
END:VCALENDAR