BEGIN:VCALENDAR
VERSION:2.0
METHOD:PUBLISH
PRODID:-//Agenda.ad//NONSGML v1.0//EN
BEGIN:VEVENT
CLASS:PUBLIC
UID:c0bf825d0962f6288ff0e037151aab8d@agenda.ad
DTSTAMP:20260424T093653Z
DTSTART:20191205T230000Z
DTEND:20191207T230000Z
SUMMARY:Ara ve Nadal
DESCRIPTION:Activitats de Nadal i pista de patinatge\n\nMés informació
 \nhttps://www.agenda.ad/activitat/la-massana/fires-i-mercats
 /ara-ve-nadal-11406\nOficina de Turisme de la Massana(+ 376)
  835 693www.lamassana.ad\n\nOrganitza\nComú de la Massana
LOCATION:Plaça de Les Fontetes
SEQUENCE:0
TRANSP:OPAQUE
X-ALT-DESC;FMTTYPE=text/html:<!DOCTYPE HTML PUBLIC "-//W3C//DTD HTML 3.2//EN"><HTML><HEAD
 ><TITLE></TITLE></HEAD><BODY><FONT FACE="Arial" SIZE=2>Activ
 itats de Nadal i pista de patinatge<br/><br/><b>Més informa
 ció</b><br/><a href="https://www.agenda.ad/activitat/la-mas
 sana/fires-i-mercats/ara-ve-nadal-11406">https://www.agenda.
 ad/activitat/la-massana/fires-i-mercats/ara-ve-nadal-11406</
 a><br/>Oficina de Turisme de la Massana(+ 376) 835 693www.la
 massana.ad<br/><br/><b>Organitza</b><br/>Comú de la Massana
 </FONT></BODY></HTML>
END:VEVENT
END:VCALENDAR