BEGIN:VCALENDAR
VERSION:2.0
METHOD:PUBLISH
PRODID:-//Agenda.ad//NONSGML v1.0//EN
BEGIN:VEVENT
CLASS:PUBLIC
UID:d435a6cbd1527575f0d5d41b3d106f24@agenda.ad
DTSTAMP:20260422T015501Z
DTSTART:20191010T220000Z
DTEND:20191012T220000Z
SUMMARY:Vide Dressing
DESCRIPTION:Edició tardor\n\nMés informació\nhttps://www.agenda
 .ad/activitat/la-massana/fires-i-mercats/vide-dressing-11077
 \n\n\nOrganitza\nComú de la Massana
LOCATION:Sala de la Closeta
SEQUENCE:0
TRANSP:OPAQUE
X-ALT-DESC;FMTTYPE=text/html:<!DOCTYPE HTML PUBLIC "-//W3C//DTD HTML 3.2//EN"><HTML><HEAD
 ><TITLE></TITLE></HEAD><BODY><FONT FACE="Arial" SIZE=2><span
 >Edici&oacute; tardor</span><br/><br/><b>Més informació</b
 ><br/><a href="https://www.agenda.ad/activitat/la-massana/fi
 res-i-mercats/vide-dressing-11077">https://www.agenda.ad/act
 ivitat/la-massana/fires-i-mercats/vide-dressing-11077</a><br
 /><br/><br/><b>Organitza</b><br/>Comú de la Massana</FONT><
 /BODY></HTML>
END:VEVENT
END:VCALENDAR