BEGIN:VCALENDAR
VERSION:2.0
METHOD:PUBLISH
PRODID:-//Agenda.ad//NONSGML v1.0//EN
BEGIN:VEVENT
CLASS:PUBLIC
UID:5f0f637d67605376af834ab83bd23c0d@agenda.ad
DTSTAMP:20260424T072358Z
DTSTART:20211130T230000Z
DTEND:20211130T230000Z
SUMMARY:Club de lectura de les Valls del Nord 2021-2022
DESCRIPTION:Club de lectura\n\nMés informació\nhttps://www.agenda.ad/a
 ctivitat/la-massana/lletres/club-de-lectura-de-les-valls-del
 -nord-2019-2020-11412\n\n\nOrganitza\nClub de lectura de les
  Valls del Nord
LOCATION:Biblioteca Comunal de la Massana
SEQUENCE:0
TRANSP:OPAQUE
X-ALT-DESC;FMTTYPE=text/html:<!DOCTYPE HTML PUBLIC "-//W3C//DTD HTML 3.2//EN"><HTML><HEAD
 ><TITLE></TITLE></HEAD><BODY><FONT FACE="Arial" SIZE=2>Club 
 de lectura<br/><br/><b>Més informació</b><br/><a href="htt
 ps://www.agenda.ad/activitat/la-massana/lletres/club-de-lect
 ura-de-les-valls-del-nord-2019-2020-11412">https://www.agend
 a.ad/activitat/la-massana/lletres/club-de-lectura-de-les-val
 ls-del-nord-2019-2020-11412</a><br/><br/><br/><b>Organitza</
 b><br/>Club de lectura de les Valls del Nord</FONT></BODY></
 HTML>
END:VEVENT
END:VCALENDAR