BEGIN:VCALENDAR
VERSION:2.0
METHOD:PUBLISH
PRODID:-//Agenda.ad//NONSGML v1.0//EN
BEGIN:VEVENT
CLASS:PUBLIC
UID:d03f20ce6a4b0f309c6012c79e5117df@agenda.ad
DTSTAMP:20260422T043411Z
DTSTART:20181228T230000Z
DTEND:20190420T220000Z
SUMMARY:Excursions guiades amb raquetes de neu
DESCRIPTION:Aquest hivern, muntanyes d’emocions a la Massana!\n\nM
 és informació\nhttps://www.agenda.ad/activitat/la-massana/
 mes-cultura/excursions-guiades-amb-raquetes-de-neu\n\n\nOrga
 nitza\nComú de la Massana
LOCATION:Plaça de Les Fontetes
SEQUENCE:0
TRANSP:OPAQUE
X-ALT-DESC;FMTTYPE=text/html:<!DOCTYPE HTML PUBLIC "-//W3C//DTD HTML 3.2//EN"><HTML><HEAD
 ><TITLE></TITLE></HEAD><BODY><FONT FACE="Arial" SIZE=2><span
 >Aquest hivern, m</span><span>untanyes d&rsquo;emocions a la
  Massana!</span><br/><br/><b>Més informació</b><br/><a hre
 f="https://www.agenda.ad/activitat/la-massana/mes-cultura/ex
 cursions-guiades-amb-raquetes-de-neu">https://www.agenda.ad/
 activitat/la-massana/mes-cultura/excursions-guiades-amb-raqu
 etes-de-neu</a><br/><br/><br/><b>Organitza</b><br/>Comú de 
 la Massana</FONT></BODY></HTML>
END:VEVENT
END:VCALENDAR