BEGIN:VCALENDAR
VERSION:2.0
METHOD:PUBLISH
PRODID:-//Agenda.ad//NONSGML v1.0//EN
BEGIN:VEVENT
CLASS:PUBLIC
UID:2f0c438dad50489eac136ab25eb5688e@agenda.ad
DTSTAMP:20260421T151652Z
DTSTART:20260419T220000Z
DTEND:20260523T220000Z
SUMMARY:<h1 class="my-3 text-3xl font-bold">CONCURS DE FOTOGRAFIA &middot; &ldquo;La Massana sota un cel privilegiat&rdquo; &ndash; Especial Nit Mundial Starlight</h1>
DESCRIPTION:

Amb motiu de la celebració de la Nit Mundial Starli
 ght, que tindrà lloc el proper 20 d’abril de 20
 26, el Comú de la Massana convoca el concurs de fotog
 rafia “La Massana sota un cel privilegiat”, una 
 iniciativa oberta a totes les persones aficionades a la foto
 grafia i a l’astronomia.

\n\nMés informació\nhttps:
 //www.agenda.ad/activitat/la-massana/mes-cultura/https-d58ui
 eioun6fzcloudfrontnet-events-af7f19bb-adf3-49f9-9483-dda5818
 081cb-file-8ed0395b7db2da10edb84d41f4debacbpdf\n
LOCATION:Poble de la Massana
SEQUENCE:0
TRANSP:OPAQUE
X-ALT-DESC;FMTTYPE=text/html:<!DOCTYPE HTML PUBLIC "-//W3C//DTD HTML 3.2//EN"><HTML><HEAD
 ><TITLE></TITLE></HEAD><BODY><FONT FACE="Arial" SIZE=2><div 
 class="lg:col-span-9 lg:col-start-2">
<div class="hidden lg:
 block">
<p>Amb motiu de la celebraci&oacute; de la Nit Mundi
 al Starlight, que tindr&agrave; lloc el proper 20 d&rsquo;ab
 ril de 2026, el Com&uacute; de la Massana convoca el concurs
  de fotografia &ldquo;La Massana sota un cel privilegiat&rdq
 uo;, una iniciativa oberta a totes les persones aficionades 
 a la fotografia i a l&rsquo;astronomia.</p>
</div>
</div><br
 /><br/><b>Més informació</b><br/><a href="https://www.agen
 da.ad/activitat/la-massana/mes-cultura/https-d58uieioun6fzcl
 oudfrontnet-events-af7f19bb-adf3-49f9-9483-dda5818081cb-file
 -8ed0395b7db2da10edb84d41f4debacbpdf">https://www.agenda.ad/
 activitat/la-massana/mes-cultura/https-d58uieioun6fzcloudfro
 ntnet-events-af7f19bb-adf3-49f9-9483-dda5818081cb-file-8ed03
 95b7db2da10edb84d41f4debacbpdf</a><br/></FONT></BODY></HTML>
END:VEVENT
END:VCALENDAR