BEGIN:VCALENDAR
VERSION:2.0
METHOD:PUBLISH
PRODID:-//Agenda.ad//NONSGML v1.0//EN
BEGIN:VEVENT
CLASS:PUBLIC
UID:c6b66783b0c1203495729c19e8030469@agenda.ad
DTSTAMP:20260424T095348Z
DTSTART:20191218T230000Z
DTEND:20191222T230000Z
SUMMARY:Visita a la casa del Pare Noel
DESCRIPTION:A les bordes de Cardemeller.\n\nMés informació\nhttps://ww
 w.agenda.ad/activitat/la-massana/mes-cultura/visita-a-la-cas
 a-del-pare-noel\nCm-ExperienceTel.: +376 355 131
Oficina de 
 Turisme de la Massana Tel.: +376 835 693 turisme@comumassana
 .ad\n\nOrganitza\nCm-Experience
LOCATION:Poble de Pal
SEQUENCE:0
TRANSP:OPAQUE
X-ALT-DESC;FMTTYPE=text/html:<!DOCTYPE HTML PUBLIC "-//W3C//DTD HTML 3.2//EN"><HTML><HEAD
 ><TITLE></TITLE></HEAD><BODY><FONT FACE="Arial" SIZE=2><span
 >A les bordes de Cardemeller.</span><br/><br/><b>Més inform
 ació</b><br/><a href="https://www.agenda.ad/activitat/la-ma
 ssana/mes-cultura/visita-a-la-casa-del-pare-noel">https://ww
 w.agenda.ad/activitat/la-massana/mes-cultura/visita-a-la-cas
 a-del-pare-noel</a><br/>Cm-ExperienceTel.: +376 355 131
Ofic
 ina de Turisme de la Massana Tel.: +376 835 693 turisme@comu
 massana.ad<br/><br/><b>Organitza</b><br/>Cm-Experience</FONT
 ></BODY></HTML>
END:VEVENT
END:VCALENDAR