BEGIN:VCALENDAR
VERSION:2.0
METHOD:PUBLISH
PRODID:-//Agenda.ad//NONSGML v1.0//EN
BEGIN:VEVENT
CLASS:PUBLIC
UID:24475de8e0b1276e8ec7e8812aedb781@agenda.ad
DTSTAMP:20260419T190304Z
DTSTART:20260313T230000Z
DTEND:20260313T230000Z
SUMMARY:Andorra remember festival edici&oacute; pirata
DESCRIPTION:\n\nMés informació\nhttps://www.agenda.ad/activitat/la-mas
 sana/musica/andorra-remember-festival-edicio-pirata\nhttps:/
 /www.andorrarememberfestival.com/\n\nOrganitza\nNaiman Event
 s
LOCATION:Complex del Tabola
SEQUENCE:0
TRANSP:OPAQUE
X-ALT-DESC;FMTTYPE=text/html:<!DOCTYPE HTML PUBLIC "-//W3C//DTD HTML 3.2//EN"><HTML><HEAD
 ><TITLE></TITLE></HEAD><BODY><FONT FACE="Arial" SIZE=2><br/>
 <br/><b>Més informació</b><br/><a href="https://www.agenda
 .ad/activitat/la-massana/musica/andorra-remember-festival-ed
 icio-pirata">https://www.agenda.ad/activitat/la-massana/musi
 ca/andorra-remember-festival-edicio-pirata</a><br/>https://w
 ww.andorrarememberfestival.com/<br/><br/><b>Organitza</b><br
 />Naiman Events</FONT></BODY></HTML>
END:VEVENT
END:VCALENDAR