BEGIN:VCALENDAR
VERSION:2.0
METHOD:PUBLISH
PRODID:-//Agenda.ad//NONSGML v1.0//EN
BEGIN:VEVENT
CLASS:PUBLIC
UID:cbdf8cd253d50f3293dd809c8cebab11@agenda.ad
DTSTAMP:20260422T044023Z
DTSTART:20190210T230000Z
DTEND:20190210T230000Z
SUMMARY:Concert de Vibrand en Clau de Soul
DESCRIPTION:\n\nMés informació\nhttps://www.agenda.ad/activitat/la-mas
 sana/musica/concert-de-vibrand-en-clau-de-soul-9882\n\n\nOrg
 anitza\nHotel Màgic
LOCATION:Hotel Màgic
SEQUENCE:0
TRANSP:OPAQUE
X-ALT-DESC;FMTTYPE=text/html:<!DOCTYPE HTML PUBLIC "-//W3C//DTD HTML 3.2//EN"><HTML><HEAD
 ><TITLE></TITLE></HEAD><BODY><FONT FACE="Arial" SIZE=2><br/>
 <br/><b>Més informació</b><br/><a href="https://www.agenda
 .ad/activitat/la-massana/musica/concert-de-vibrand-en-clau-d
 e-soul-9882">https://www.agenda.ad/activitat/la-massana/musi
 ca/concert-de-vibrand-en-clau-de-soul-9882</a><br/><br/><br/
 ><b>Organitza</b><br/>Hotel Màgic</FONT></BODY></HTML>
END:VEVENT
END:VCALENDAR