BEGIN:VCALENDAR
VERSION:2.0
METHOD:PUBLISH
PRODID:-//Agenda.ad//NONSGML v1.0//EN
BEGIN:VEVENT
CLASS:PUBLIC
UID:57eb1f1ae7b0a29fffb5baaf07f1480f@agenda.ad
DTSTAMP:20260419T202217Z
DTSTART:20260306T230000Z
DTEND:20260306T230000Z
SUMMARY:<span>Concert Vibrand Music</span>
DESCRIPTION:\n\nMés informació\nhttps://www.agenda.ad/activitat/la-mas
 sana/musica/concert-vibrand-music-23663\n\n\nOrganitza\nHote
 l Sant Gothard
LOCATION:Hotel Sant Gothard
SEQUENCE:0
TRANSP:OPAQUE
X-ALT-DESC;FMTTYPE=text/html:<!DOCTYPE HTML PUBLIC "-//W3C//DTD HTML 3.2//EN"><HTML><HEAD
 ><TITLE></TITLE></HEAD><BODY><FONT FACE="Arial" SIZE=2><br/>
 <br/><b>Més informació</b><br/><a href="https://www.agenda
 .ad/activitat/la-massana/musica/concert-vibrand-music-23663"
 >https://www.agenda.ad/activitat/la-massana/musica/concert-v
 ibrand-music-23663</a><br/><br/><br/><b>Organitza</b><br/>Ho
 tel Sant Gothard</FONT></BODY></HTML>
END:VEVENT
END:VCALENDAR