BEGIN:VCALENDAR
VERSION:2.0
METHOD:PUBLISH
PRODID:-//Agenda.ad//NONSGML v1.0//EN
BEGIN:VEVENT
CLASS:PUBLIC
UID:c663e7f7cebc50621be430d0e96b6f73@agenda.ad
DTSTAMP:20260422T015759Z
DTSTART:20191011T220000Z
DTEND:20191011T220000Z
SUMMARY:<span>Temporada ENA. </span><strong>'CLEMENTINA'</strong>
DESCRIPTION:Un espectacle familiar de Núria Montes\n\nMés inform
 ació\nhttps://www.agenda.ad/activitat/la-massana/teatre-i-d
 ansa/temporada-ena-clementina-\n\n\nOrganitza\nEscena Nacion
 al d'Andorra
LOCATION:Teatre de Les Fontetes
SEQUENCE:0
TRANSP:OPAQUE
X-ALT-DESC;FMTTYPE=text/html:<!DOCTYPE HTML PUBLIC "-//W3C//DTD HTML 3.2//EN"><HTML><HEAD
 ><TITLE></TITLE></HEAD><BODY><FONT FACE="Arial" SIZE=2><span
 >Un espectacle familiar de <strong>N&uacute;ria Montes</stro
 ng></span><br/><br/><b>Més informació</b><br/><a href="htt
 ps://www.agenda.ad/activitat/la-massana/teatre-i-dansa/tempo
 rada-ena-clementina-">https://www.agenda.ad/activitat/la-mas
 sana/teatre-i-dansa/temporada-ena-clementina-</a><br/><br/><
 br/><b>Organitza</b><br/>Escena Nacional d'Andorra</FONT></B
 ODY></HTML>
END:VEVENT
END:VCALENDAR