BEGIN:VCALENDAR
VERSION:2.0
METHOD:PUBLISH
PRODID:-//Agenda.ad//NONSGML v1.0//EN
BEGIN:VEVENT
CLASS:PUBLIC
UID:ff0ea402c775c303e9e77d85a4b85e6b@agenda.ad
DTSTAMP:20191115T235919Z
DTSTART:20191014T220000Z
DTEND:20191216T230000Z
SUMMARY:Mam&agrave;s Contacontes
DESCRIPTION:Contacontes multiling&uuml;es per a infants de 6 a 11 anys.\
 n\nMés informació\nhttps://www.agenda.ad/activitat/ordino/
 activitats-infantils/mamas-contacontes\n\n\nOrganitza\nComú
  d'Ordino
LOCATION:Bebeteca
SEQUENCE:0
TRANSP:OPAQUE
X-ALT-DESC;FMTTYPE=text/html:<!DOCTYPE HTML PUBLIC "-//W3C//DTD HTML 3.2//EN"><HTML><HEAD
 ><TITLE></TITLE></HEAD><BODY><FONT FACE="Arial" SIZE=2>Conta
 contes multiling&uuml;es per a infants de 6 a 11 anys.<br/><
 br/><b>Més informació</b><br/><a href="https://www.agenda.
 ad/activitat/ordino/activitats-infantils/mamas-contacontes">
 https://www.agenda.ad/activitat/ordino/activitats-infantils/
 mamas-contacontes</a><br/><br/><br/><b>Organitza</b><br/>Com
 ú d'Ordino</FONT></BODY></HTML>
END:VEVENT
END:VCALENDAR