BEGIN:VCALENDAR
VERSION:2.0
METHOD:PUBLISH
PRODID:-//Agenda.ad//NONSGML v1.0//EN
BEGIN:VEVENT
CLASS:PUBLIC
UID:73a08b1341b3d56535b5092002874b7c@agenda.ad
DTSTAMP:20260419T201910Z
DTSTART:20260227T230000Z
DTEND:20260227T230000Z
SUMMARY:"Pallassades", espectacle de clown
DESCRIPTION:"Pallassades", espectacle de clown\n\nMés informació\nhttp
 s://www.agenda.ad/activitat/ordino/activitats-infantils/pall
 assades-espectacle-de-clown\n\n\nOrganitza\nComú d'Ordino
LOCATION:Sala d'esbarjo Quart de la Cortinada
SEQUENCE:0
TRANSP:OPAQUE
X-ALT-DESC;FMTTYPE=text/html:<!DOCTYPE HTML PUBLIC "-//W3C//DTD HTML 3.2//EN"><HTML><HEAD
 ><TITLE></TITLE></HEAD><BODY><FONT FACE="Arial" SIZE=2>"Pall
 assades", espectacle de clown<br/><br/><b>Més informació</
 b><br/><a href="https://www.agenda.ad/activitat/ordino/activ
 itats-infantils/pallassades-espectacle-de-clown">https://www
 .agenda.ad/activitat/ordino/activitats-infantils/pallassades
 -espectacle-de-clown</a><br/><br/><br/><b>Organitza</b><br/>
 Comú d'Ordino</FONT></BODY></HTML>
END:VEVENT
END:VCALENDAR