BEGIN:VCALENDAR
VERSION:2.0
METHOD:PUBLISH
PRODID:-//Agenda.ad//NONSGML v1.0//EN
BEGIN:VEVENT
CLASS:PUBLIC
UID:b19afbee65241173dcd1fdd054550a81@agenda.ad
DTSTAMP:20260419T174131Z
DTSTART:20260320T230000Z
DTEND:20260320T230000Z
SUMMARY:"Pedala i pinta", taller de dibuix
DESCRIPTION:"Pedala i pinta", taller de dibuix\n\nMés informació\nhttp
 s://www.agenda.ad/activitat/ordino/activitats-infantils/peda
 la-i-pinta-taller-de-dibuix\n\n\nOrganitza\nComú d'Ordino
LOCATION:Sala d'esbarjo Quart de la Cortinada
SEQUENCE:0
TRANSP:OPAQUE
X-ALT-DESC;FMTTYPE=text/html:<!DOCTYPE HTML PUBLIC "-//W3C//DTD HTML 3.2//EN"><HTML><HEAD
 ><TITLE></TITLE></HEAD><BODY><FONT FACE="Arial" SIZE=2>"Peda
 la i pinta", taller de dibuix<br/><br/><b>Més informació</
 b><br/><a href="https://www.agenda.ad/activitat/ordino/activ
 itats-infantils/pedala-i-pinta-taller-de-dibuix">https://www
 .agenda.ad/activitat/ordino/activitats-infantils/pedala-i-pi
 nta-taller-de-dibuix</a><br/><br/><br/><b>Organitza</b><br/>
 Comú d'Ordino</FONT></BODY></HTML>
END:VEVENT
END:VCALENDAR