BEGIN:VCALENDAR
VERSION:2.0
METHOD:PUBLISH
PRODID:-//Agenda.ad//NONSGML v1.0//EN
BEGIN:VEVENT
CLASS:PUBLIC
UID:475178527a99f6b8c0cd89544905fc1b@agenda.ad
DTSTAMP:20260424T080631Z
DTSTART:20191206T230000Z
DTEND:20191206T230000Z
SUMMARY:Vine a buscar el ti&oacute;!
DESCRIPTION:Gimcana familiar "Vine a buscar el tió"\n\nMés infor
 mació\nhttps://www.agenda.ad/activitat/ordino/activitats-in
 fantils/vine-a-buscar-el-tio!\n\n\nOrganitza\nComú d'Ordino
LOCATION:Plaça del Prat de Call
SEQUENCE:0
TRANSP:OPAQUE
X-ALT-DESC;FMTTYPE=text/html:<!DOCTYPE HTML PUBLIC "-//W3C//DTD HTML 3.2//EN"><HTML><HEAD
 ><TITLE></TITLE></HEAD><BODY><FONT FACE="Arial" SIZE=2>Gimca
 na familiar "Vine a buscar el ti&oacute;"<br/><br/><b>Més i
 nformació</b><br/><a href="https://www.agenda.ad/activitat/
 ordino/activitats-infantils/vine-a-buscar-el-tio!">https://w
 ww.agenda.ad/activitat/ordino/activitats-infantils/vine-a-bu
 scar-el-tio!</a><br/><br/><br/><b>Organitza</b><br/>Comú d'
 Ordino</FONT></BODY></HTML>
END:VEVENT
END:VCALENDAR