BEGIN:VCALENDAR
VERSION:2.0
METHOD:PUBLISH
PRODID:-//Agenda.ad//NONSGML v1.0//EN
BEGIN:VEVENT
CLASS:PUBLIC
UID:18e577efe3891ff37b73840c1168c953@agenda.ad
DTSTAMP:20260422T060348Z
DTSTART:20190320T230000Z
DTEND:20190320T230000Z
SUMMARY:<span>Cicle de cinema de muntanya i viatges 2019</span>
DESCRIPTION:Guanyant altura
Audiovisual. Col·loqui posterior
  amb Estefania Troguet
\n\nMés informació\nhttps://www.age
 nda.ad/activitat/ordino/cinema/cicle-de-cinema-i-de-muntanya
 -2019-9742\nComú d’Ordino(+376) 878 100www.ordi
 no.ad\n\nOrganitza\nComuns d’Ordino i La Massana i Esports
  Viladomat
LOCATION:Auditori Nacional d'Andorra
SEQUENCE:0
TRANSP:OPAQUE
X-ALT-DESC;FMTTYPE=text/html:<!DOCTYPE HTML PUBLIC "-//W3C//DTD HTML 3.2//EN"><HTML><HEAD
 ><TITLE></TITLE></HEAD><BODY><FONT FACE="Arial" SIZE=2><div>
 <strong><em>Guanyant altura<br /></em></strong>
<div>Audiovi
 sual.&nbsp;Col&middot;loqui posterior amb Estefania Troguet<
 /div>
</div><br/><br/><b>Més informació</b><br/><a href="h
 ttps://www.agenda.ad/activitat/ordino/cinema/cicle-de-cinema
 -i-de-muntanya-2019-9742">https://www.agenda.ad/activitat/or
 dino/cinema/cicle-de-cinema-i-de-muntanya-2019-9742</a><br/>
 Com&uacute; d&rsquo;Ordino(+376) 878 100www.ordino.ad<br/><b
 r/><b>Organitza</b><br/>Comuns d’Ordino i La Massana i Esp
 orts Viladomat</FONT></BODY></HTML>
END:VEVENT
END:VCALENDAR