BEGIN:VCALENDAR
VERSION:2.0
METHOD:PUBLISH
PRODID:-//Agenda.ad//NONSGML v1.0//EN
BEGIN:VEVENT
CLASS:PUBLIC
UID:7aa89b99ee47e3f67c198c4b8f460b1a@agenda.ad
DTSTAMP:20260422T060354Z
DTSTART:20190327T230000Z
DTEND:20190327T230000Z
SUMMARY:<span>Cicle de cinema de muntanya i viatges 2019</span>
DESCRIPTION:Fem país amb l'Andorra Ultra Trail Vallnord
 

&
 nbsp;\n\nMés informació\nhttps://www.agenda.ad/activitat/o
 rdino/cinema/cicle-de-cinema-i-de-muntanya-2019-9743\nCom&ua
 cute; d’Ordino(+376) 878 100www.ordino.ad\n\nOrganitza
 \nComuns d’Ordino i La Massana i Esports Viladomat
LOCATION:Auditori Nacional d'Andorra
SEQUENCE:0
TRANSP:OPAQUE
X-ALT-DESC;FMTTYPE=text/html:<!DOCTYPE HTML PUBLIC "-//W3C//DTD HTML 3.2//EN"><HTML><HEAD
 ><TITLE></TITLE></HEAD><BODY><FONT FACE="Arial" SIZE=2><div>
 <strong><em>Fem pa&iacute;s amb l'Andorra Ultra Trail Vallno
 rd</em></strong>
<div>&nbsp;</div>
</div>
<div>&nbsp;</div><
 br/><br/><b>Més informació</b><br/><a href="https://www.ag
 enda.ad/activitat/ordino/cinema/cicle-de-cinema-i-de-muntany
 a-2019-9743">https://www.agenda.ad/activitat/ordino/cinema/c
 icle-de-cinema-i-de-muntanya-2019-9743</a><br/>Com&uacute; d
 &rsquo;Ordino(+376) 878 100www.ordino.ad<br/><br/><b>Organit
 za</b><br/>Comuns d’Ordino i La Massana i Esports Viladoma
 t</FONT></BODY></HTML>
END:VEVENT
END:VCALENDAR