BEGIN:VCALENDAR
VERSION:2.0
METHOD:PUBLISH
PRODID:-//Agenda.ad//NONSGML v1.0//EN
BEGIN:VEVENT
CLASS:PUBLIC
UID:4e26f0a0cbfb25fe2c3b4eae64b84995@agenda.ad
DTSTAMP:20260422T043824Z
DTSTART:20190116T230000Z
DTEND:20190327T230000Z
SUMMARY:Cicle de cinema de muntanya i viatges 2019
DESCRIPTION: Cicle de cinema i de muntanya 2019
 \n\nMés info
 rmació\nhttps://www.agenda.ad/activitat/ordino/cinema/cicle
 -de-cinema-i-de-muntanya-2019-9789\nComú d’Ordi
 no(+376) 878 100www.ordino.ad\n\nOrganitza\nComuns d’Ordin
 o i La Massana i Esports Viladomat
LOCATION:Auditori Nacional d'Andorra
SEQUENCE:0
TRANSP:OPAQUE
X-ALT-DESC;FMTTYPE=text/html:<!DOCTYPE HTML PUBLIC "-//W3C//DTD HTML 3.2//EN"><HTML><HEAD
 ><TITLE></TITLE></HEAD><BODY><FONT FACE="Arial" SIZE=2><div>
 &nbsp;Cicle de cinema i de muntanya 2019</div>
<div>&nbsp;</
 div><br/><br/><b>Més informació</b><br/><a href="https://w
 ww.agenda.ad/activitat/ordino/cinema/cicle-de-cinema-i-de-mu
 ntanya-2019-9789">https://www.agenda.ad/activitat/ordino/cin
 ema/cicle-de-cinema-i-de-muntanya-2019-9789</a><br/>Com&uacu
 te; d&rsquo;Ordino(+376) 878 100www.ordino.ad<br/><br/><b>Or
 ganitza</b><br/>Comuns d’Ordino i La Massana i Esports Vil
 adomat</FONT></BODY></HTML>
END:VEVENT
END:VCALENDAR