BEGIN:VCALENDAR
VERSION:2.0
METHOD:PUBLISH
PRODID:-//Agenda.ad//NONSGML v1.0//EN
BEGIN:VEVENT
CLASS:PUBLIC
UID:1ee3ef8ed6a73e7167f434c3b3ddd8e2@agenda.ad
DTSTAMP:20260422T060525Z
DTSTART:20190116T230000Z
DTEND:20190116T230000Z
SUMMARY:Primera projecci&oacute; del Cicle de cinema i de muntanya 2019
DESCRIPTION:A Land Shaped by Women (Un país modelat per dones)
\n
 \nMés informació\nhttps://www.agenda.ad/activitat/ordino/c
 inema/primera-projeccio-del-cicle-de-cinema-i-de-muntanya-20
 19\nComú d’Ordino(+376) 878 100www.ordino.ad\n\
 nOrganitza\nComuns d’Ordino i La Massana i Esports Viladom
 at
LOCATION:Auditori Nacional d'Andorra
SEQUENCE:0
TRANSP:OPAQUE
X-ALT-DESC;FMTTYPE=text/html:<!DOCTYPE HTML PUBLIC "-//W3C//DTD HTML 3.2//EN"><HTML><HEAD
 ><TITLE></TITLE></HEAD><BODY><FONT FACE="Arial" SIZE=2><div>
 <em>A Land Shaped by Women</em> (<em>Un pa&iacute;s modelat 
 per dones</em>)</div>
<div><strong><br /></strong></div><br/
 ><br/><b>Més informació</b><br/><a href="https://www.agend
 a.ad/activitat/ordino/cinema/primera-projeccio-del-cicle-de-
 cinema-i-de-muntanya-2019">https://www.agenda.ad/activitat/o
 rdino/cinema/primera-projeccio-del-cicle-de-cinema-i-de-munt
 anya-2019</a><br/>Com&uacute; d&rsquo;Ordino(+376) 878 100ww
 w.ordino.ad<br/><br/><b>Organitza</b><br/>Comuns d’Ordino 
 i La Massana i Esports Viladomat</FONT></BODY></HTML>
END:VEVENT
END:VCALENDAR