BEGIN:VCALENDAR
VERSION:2.0
METHOD:PUBLISH
PRODID:-//Agenda.ad//NONSGML v1.0//EN
BEGIN:VEVENT
CLASS:PUBLIC
UID:b074ec6e94203da624ecf6aa9d85b502@agenda.ad
DTSTAMP:20260419T220807Z
DTSTART:20260225T230000Z
DTEND:20260225T230000Z
SUMMARY:Conferencia sobre la Meditaci&oacute; Tibetana Shin&eacute;. Calma Mental
DESCRIPTION:Conferencia sobre la Meditació Tibetana Shiné.
  Calma Mental\n\nMés informació\nhttps://www.agenda.ad/act
 ivitat/ordino/conferencies/conferencia-sobre-la-meditacio-ti
 betana-shine-calma-mental\n\n\nOrganitza\nComú d'Ordino
LOCATION:Biblioteca d'Ordino
SEQUENCE:0
TRANSP:OPAQUE
X-ALT-DESC;FMTTYPE=text/html:<!DOCTYPE HTML PUBLIC "-//W3C//DTD HTML 3.2//EN"><HTML><HEAD
 ><TITLE></TITLE></HEAD><BODY><FONT FACE="Arial" SIZE=2>Confe
 rencia sobre la Meditaci&oacute; Tibetana Shin&eacute;. Calm
 a Mental<br/><br/><b>Més informació</b><br/><a href="https
 ://www.agenda.ad/activitat/ordino/conferencies/conferencia-s
 obre-la-meditacio-tibetana-shine-calma-mental">https://www.a
 genda.ad/activitat/ordino/conferencies/conferencia-sobre-la-
 meditacio-tibetana-shine-calma-mental</a><br/><br/><br/><b>O
 rganitza</b><br/>Comú d'Ordino</FONT></BODY></HTML>
END:VEVENT
END:VCALENDAR