BEGIN:VCALENDAR
VERSION:2.0
METHOD:PUBLISH
PRODID:-//Agenda.ad//NONSGML v1.0//EN
BEGIN:VEVENT
CLASS:PUBLIC
UID:d068e5b93ae16a47d1840a50011b84d3@agenda.ad
DTSTAMP:20260422T020100Z
DTSTART:20191013T220000Z
DTEND:20191030T230000Z
SUMMARY:Exposici&oacute; d'escultura. Laura Maresc
DESCRIPTION:Exposició d'escultura de l'artísta Laura Mares
 c.\n\nMés informació\nhttps://www.agenda.ad/activitat/ordi
 no/exposicions/exposicio-d-escultura-laura-maresc\nElena S&a
 acute;nchez662 686
www.kunstank.com\n\nOrganitza\nKUNSTANK, 
 contenidors d'art
LOCATION:Centre de Natura de la Cortinada
SEQUENCE:0
TRANSP:OPAQUE
X-ALT-DESC;FMTTYPE=text/html:<!DOCTYPE HTML PUBLIC "-//W3C//DTD HTML 3.2//EN"><HTML><HEAD
 ><TITLE></TITLE></HEAD><BODY><FONT FACE="Arial" SIZE=2>Expos
 ici&oacute; d'escultura de l'art&iacute;sta Laura Maresc.<br
 /><br/><b>Més informació</b><br/><a href="https://www.agen
 da.ad/activitat/ordino/exposicions/exposicio-d-escultura-lau
 ra-maresc">https://www.agenda.ad/activitat/ordino/exposicion
 s/exposicio-d-escultura-laura-maresc</a><br/>Elena S&aacute;
 nchez662 686
www.kunstank.com<br/><br/><b>Organitza</b><br/>
 KUNSTANK, contenidors d'art</FONT></BODY></HTML>
END:VEVENT
END:VCALENDAR