BEGIN:VCALENDAR
VERSION:2.0
METHOD:PUBLISH
PRODID:-//Agenda.ad//NONSGML v1.0//EN
BEGIN:VEVENT
CLASS:PUBLIC
UID:5e09d95b62986506765b439d2388433f@agenda.ad
DTSTAMP:20260422T044023Z
DTSTART:20190129T230000Z
DTEND:20190209T230000Z
SUMMARY:<span>Exposici&oacute; del VIII Concurs d&rsquo;arts pl&agrave;stiques per a joves 2018</span>
DESCRIPTION:Exposició del VIII Concurs d’arts plàsti
 ques per a joves 2018\n\nMés informació\nhttps://www.agend
 a.ad/activitat/ordino/exposicions/exposicio-del-viii-concurs
 -darts-plastiques-per-a-joves-2018\nDepartament de Joventut&
 nbsp;i VoluntariatEd. Prada Casadet, baixosAD500 Andorra la 
 VellaTel. 829 456joventut_voluntariat@govern.adwww.joventut.
 ad\n\nOrganitza\nComú d'Ordino
LOCATION:Biblioteca d'Ordino
SEQUENCE:0
TRANSP:OPAQUE
X-ALT-DESC;FMTTYPE=text/html:<!DOCTYPE HTML PUBLIC "-//W3C//DTD HTML 3.2//EN"><HTML><HEAD
 ><TITLE></TITLE></HEAD><BODY><FONT FACE="Arial" SIZE=2>Expos
 ici&oacute; del VIII Concurs d&rsquo;arts pl&agrave;stiques 
 per a joves 2018<br/><br/><b>Més informació</b><br/><a hre
 f="https://www.agenda.ad/activitat/ordino/exposicions/exposi
 cio-del-viii-concurs-darts-plastiques-per-a-joves-2018">http
 s://www.agenda.ad/activitat/ordino/exposicions/exposicio-del
 -viii-concurs-darts-plastiques-per-a-joves-2018</a><br/>Depa
 rtament de Joventut&nbsp;i VoluntariatEd. Prada Casadet, bai
 xosAD500 Andorra la VellaTel. 829 456joventut_voluntariat@go
 vern.adwww.joventut.ad<br/><br/><b>Organitza</b><br/>Comú d
 'Ordino</FONT></BODY></HTML>
END:VEVENT
END:VCALENDAR