BEGIN:VCALENDAR
VERSION:2.0
METHOD:PUBLISH
PRODID:-//Agenda.ad//NONSGML v1.0//EN
BEGIN:VEVENT
CLASS:PUBLIC
UID:7d1d3db99a5b48bb4911bdee34045cb5@agenda.ad
DTSTAMP:20260424T095640Z
DTSTART:20191205T230000Z
DTEND:20191207T230000Z
SUMMARY:Christmas Village d'Ordino
DESCRIPTION:Christmas Village d'Ordino\n\nMés informació\nhttps://www.
 agenda.ad/activitat/ordino/festes-i-tradicions/christmas-vil
 lage-d-ordino-11404\n\n\nOrganitza\nHble. Comú d'Ordino i l
 'Era d'Ordino
LOCATION:Poble d'Ordino
SEQUENCE:0
TRANSP:OPAQUE
X-ALT-DESC;FMTTYPE=text/html:<!DOCTYPE HTML PUBLIC "-//W3C//DTD HTML 3.2//EN"><HTML><HEAD
 ><TITLE></TITLE></HEAD><BODY><FONT FACE="Arial" SIZE=2>Chris
 tmas Village d'Ordino<br/><br/><b>Més informació</b><br/><
 a href="https://www.agenda.ad/activitat/ordino/festes-i-trad
 icions/christmas-village-d-ordino-11404">https://www.agenda.
 ad/activitat/ordino/festes-i-tradicions/christmas-village-d-
 ordino-11404</a><br/><br/><br/><b>Organitza</b><br/>Hble. Co
 mú d'Ordino i l'Era d'Ordino</FONT></BODY></HTML>
END:VEVENT
END:VCALENDAR