BEGIN:VCALENDAR
VERSION:2.0
METHOD:PUBLISH
PRODID:-//Agenda.ad//NONSGML v1.0//EN
BEGIN:VEVENT
CLASS:PUBLIC
UID:27aee7197071d5784d4ba83e3e70d4e8@agenda.ad
DTSTAMP:20260424T072937Z
DTSTART:20191202T230000Z
DTEND:20200110T230000Z
SUMMARY:Nadal Ordino 2019-2020
DESCRIPTION:Nadal MÃ gic Â· Activitats nadalenquesÂ \n\n
 MÃ©s informaciÃ³\nhttps://www.agenda.ad/activitat/ordino/fes
 tes-i-tradicions/nadal-ordino-2018-2019\n\n\nOrganitza\nComÃ
 º d'Ordino
LOCATION:ParrÃ²quia d'Ordino
SEQUENCE:0
TRANSP:OPAQUE
X-ALT-DESC;FMTTYPE=text/html:<!DOCTYPE HTML PUBLIC "-//W3C//DTD HTML 3.2//EN"><HTML><HEAD
 ><TITLE></TITLE></HEAD><BODY><FONT FACE="Arial" SIZE=2><div>
 Nadal M&agrave;gic &middot; Activitats nadalenques&nbsp;</di
 v><br/><br/><b>MÃ©s informaciÃ³</b><br/><a href="https://www
 .agenda.ad/activitat/ordino/festes-i-tradicions/nadal-ordino
 -2018-2019">https://www.agenda.ad/activitat/ordino/festes-i-
 tradicions/nadal-ordino-2018-2019</a><br/><br/><br/><b>Organ
 itza</b><br/>ComÃº d'Ordino</FONT></BODY></HTML>
END:VEVENT
END:VCALENDAR