BEGIN:VCALENDAR
VERSION:2.0
METHOD:PUBLISH
PRODID:-//Agenda.ad//NONSGML v1.0//EN
BEGIN:VEVENT
CLASS:PUBLIC
UID:293478bb0833cc8bcb3c4423c6f146e7@agenda.ad
DTSTAMP:20260424T095432Z
DTSTART:20200107T230000Z
DTEND:20200107T230000Z
SUMMARY:Club de lectura de les Valls del Nord 2019-2020
DESCRIPTION:Club de lectura de les Valls del Nord 2019-2020\n\nMés info
 rmació\nhttps://www.agenda.ad/activitat/ordino/lletres/club
 -de-lectura-de-les-valls-del-nord-2019-2020-11237\n\n\nOrgan
 itza\nComuns d’Ordino i La Massana
LOCATION:Biblioteca d'Ordino
SEQUENCE:0
TRANSP:OPAQUE
X-ALT-DESC;FMTTYPE=text/html:<!DOCTYPE HTML PUBLIC "-//W3C//DTD HTML 3.2//EN"><HTML><HEAD
 ><TITLE></TITLE></HEAD><BODY><FONT FACE="Arial" SIZE=2>Club 
 de lectura de les Valls del Nord 2019-2020<br/><br/><b>Més 
 informació</b><br/><a href="https://www.agenda.ad/activitat
 /ordino/lletres/club-de-lectura-de-les-valls-del-nord-2019-2
 020-11237">https://www.agenda.ad/activitat/ordino/lletres/cl
 ub-de-lectura-de-les-valls-del-nord-2019-2020-11237</a><br/>
 <br/><br/><b>Organitza</b><br/>Comuns d’Ordino i La Massan
 a</FONT></BODY></HTML>
END:VEVENT
END:VCALENDAR