BEGIN:VCALENDAR
VERSION:2.0
METHOD:PUBLISH
PRODID:-//Agenda.ad//NONSGML v1.0//EN
BEGIN:VEVENT
CLASS:PUBLIC
UID:2b91d4d2b6ad7c21206dbb5ba872201c@agenda.ad
DTSTAMP:20260424T081600Z
DTSTART:20191129T230000Z
DTEND:20191129T230000Z
SUMMARY:Dissabtes d'Art - Xerrem d'art
DESCRIPTION:Dissabtes d'art\n\nMés informació\nhttps://www.agenda.ad/a
 ctivitat/ordino/mes-cultura/dissabtes-d-art-xerrem-d-art-113
 79\n\n\nOrganitza\nComuns d’Ordino i La Massana
LOCATION:La Capsa, Espais de creació
SEQUENCE:0
TRANSP:OPAQUE
X-ALT-DESC;FMTTYPE=text/html:<!DOCTYPE HTML PUBLIC "-//W3C//DTD HTML 3.2//EN"><HTML><HEAD
 ><TITLE></TITLE></HEAD><BODY><FONT FACE="Arial" SIZE=2>Dissa
 btes d'art<br/><br/><b>Més informació</b><br/><a href="htt
 ps://www.agenda.ad/activitat/ordino/mes-cultura/dissabtes-d-
 art-xerrem-d-art-11379">https://www.agenda.ad/activitat/ordi
 no/mes-cultura/dissabtes-d-art-xerrem-d-art-11379</a><br/><b
 r/><br/><b>Organitza</b><br/>Comuns d’Ordino i La Massana<
 /FONT></BODY></HTML>
END:VEVENT
END:VCALENDAR