BEGIN:VCALENDAR
VERSION:2.0
METHOD:PUBLISH
PRODID:-//Agenda.ad//NONSGML v1.0//EN
BEGIN:VEVENT
CLASS:PUBLIC
UID:d75bc431bf38474366065d2ace775dec@agenda.ad
DTSTAMP:20260419T203114Z
DTSTART:20260305T230000Z
DTEND:20260305T230000Z
SUMMARY:<p>El que sembla i el que &eacute;s. Esoterisme a la Casa d&rsquo;Areny-Plandolit, xerrada a c&agrave;rrec de Mart&iacute;n Blanco, artista pl&agrave;stic, escriptor i ensenyant.</p>
DESCRIPTION:\n\nMés informació\nhttps://www.agenda.ad/activitat/ordino
 /mes-cultura/el-que-sembla-i-el-que-es-esoterisme-a-la-casa-
 dareny-plandolit-xerrada-a-carrec-de-martin-blanco-artista-p
 lastic-escriptor-i-ensenyant\nwww.museus.ad\n\nOrganitza\nGo
 vern d’Andorra 
LOCATION:Museu Casa d’Areny-Plandolit
SEQUENCE:0
TRANSP:OPAQUE
X-ALT-DESC;FMTTYPE=text/html:<!DOCTYPE HTML PUBLIC "-//W3C//DTD HTML 3.2//EN"><HTML><HEAD
 ><TITLE></TITLE></HEAD><BODY><FONT FACE="Arial" SIZE=2><br/>
 <br/><b>Més informació</b><br/><a href="https://www.agenda
 .ad/activitat/ordino/mes-cultura/el-que-sembla-i-el-que-es-e
 soterisme-a-la-casa-dareny-plandolit-xerrada-a-carrec-de-mar
 tin-blanco-artista-plastic-escriptor-i-ensenyant">https://ww
 w.agenda.ad/activitat/ordino/mes-cultura/el-que-sembla-i-el-
 que-es-esoterisme-a-la-casa-dareny-plandolit-xerrada-a-carre
 c-de-martin-blanco-artista-plastic-escriptor-i-ensenyant</a>
 <br/>www.museus.ad<br/><br/><b>Organitza</b><br/>Govern d’
 Andorra </FONT></BODY></HTML>
END:VEVENT
END:VCALENDAR