BEGIN:VCALENDAR
VERSION:2.0
METHOD:PUBLISH
PRODID:-//Agenda.ad//NONSGML v1.0//EN
BEGIN:VEVENT
CLASS:PUBLIC
UID:a03348041befb966c8db6463eb3bca8d@agenda.ad
DTSTAMP:20260424T105448Z
DTSTART:20191204T230000Z
DTEND:20200104T230000Z
SUMMARY:<strong>Un Nadal a Cal Pal</strong>
DESCRIPTION:\n\nMés informació\nhttps://www.agenda.ad/activitat/ordino
 /mes-cultura/un-nadal-a-cal-pal\nPer a més informaci&
 oacute; i reserves:info@calpalandorra.com+ 376 338 096 www.c
 alpalandorra.com\n\nOrganitza\nCal Pal
LOCATION:Cal Pal
SEQUENCE:0
TRANSP:OPAQUE
X-ALT-DESC;FMTTYPE=text/html:<!DOCTYPE HTML PUBLIC "-//W3C//DTD HTML 3.2//EN"><HTML><HEAD
 ><TITLE></TITLE></HEAD><BODY><FONT FACE="Arial" SIZE=2><br/>
 <br/><b>Més informació</b><br/><a href="https://www.agenda
 .ad/activitat/ordino/mes-cultura/un-nadal-a-cal-pal">https:/
 /www.agenda.ad/activitat/ordino/mes-cultura/un-nadal-a-cal-p
 al</a><br/>Per a m&eacute;s informaci&oacute; i reserves:inf
 o@calpalandorra.com+ 376 338 096 www.calpalandorra.com<br/><
 br/><b>Organitza</b><br/>Cal Pal</FONT></BODY></HTML>
END:VEVENT
END:VCALENDAR