BEGIN:VCALENDAR
VERSION:2.0
METHOD:PUBLISH
PRODID:-//Agenda.ad//NONSGML v1.0//EN
BEGIN:VEVENT
CLASS:PUBLIC
UID:629e114ea4b9ad827e0e782d7488d475@agenda.ad
DTSTAMP:20260422T015420Z
DTSTART:20191009T220000Z
DTEND:20191009T220000Z
SUMMARY:ORDINO CL&Agrave;SSIC &ndash; &lsquo;Royal Garage&rsquo;, Ara Malikian
DESCRIPTION:ORDINO CLÃ€SSIC â€“ â€˜Royal Garageâ€™, Ar
 a Malikian\n\nMÃ©s informaciÃ³\nhttps://www.agenda.ad/activi
 tat/ordino/musica/concert-10524\nTel.: +376 87 81 73www.ordi
 noclassic.ad\n\nOrganitza\n AssociaciÃ³ Festivals dâ€™Ordino
  â€“ ComÃº dâ€™Ordino i FundaciÃ³ CrÃ¨dit AndorrÃ 
LOCATION:Auditori Nacional d'Andorra
SEQUENCE:0
TRANSP:OPAQUE
X-ALT-DESC;FMTTYPE=text/html:<!DOCTYPE HTML PUBLIC "-//W3C//DTD HTML 3.2//EN"><HTML><HEAD
 ><TITLE></TITLE></HEAD><BODY><FONT FACE="Arial" SIZE=2><p>OR
 DINO CL&Agrave;SSIC &ndash; &lsquo;Royal Garage&rsquo;, Ara 
 Malikian</p><br/><br/><b>MÃ©s informaciÃ³</b><br/><a href="h
 ttps://www.agenda.ad/activitat/ordino/musica/concert-10524">
 https://www.agenda.ad/activitat/ordino/musica/concert-10524<
 /a><br/>Tel.: +376 87 81 73www.ordinoclassic.ad<br/><br/><b>
 Organitza</b><br/> AssociaciÃ³ Festivals dâ€™Ordino â€“ ComÃ
 º dâ€™Ordino i FundaciÃ³ CrÃ¨dit AndorrÃ </FONT></BODY></HTM
 L>
END:VEVENT
END:VCALENDAR