BEGIN:VCALENDAR
VERSION:2.0
METHOD:PUBLISH
PRODID:-//Agenda.ad//NONSGML v1.0//EN
BEGIN:VEVENT
CLASS:PUBLIC
UID:a2b6d9a03f560e1ae2bfde5f05fb25bd@agenda.ad
DTSTAMP:20260419T174625Z
DTSTART:20260325T230000Z
DTEND:20260325T230000Z
SUMMARY:Concert de Bols Tibetans amb gongs Tailand&egrave;s.
DESCRIPTION:Concert de Bols Tibetans amb gongs Tailandès.\n\nMés
  informació\nhttps://www.agenda.ad/activitat/ordino/musica/
 concert-de-bols-tibetans-amb-gongs-tailandes\n\n\nOrganitza\
 nComú d'Ordino
LOCATION:Biblioteca d'Ordino
SEQUENCE:0
TRANSP:OPAQUE
X-ALT-DESC;FMTTYPE=text/html:<!DOCTYPE HTML PUBLIC "-//W3C//DTD HTML 3.2//EN"><HTML><HEAD
 ><TITLE></TITLE></HEAD><BODY><FONT FACE="Arial" SIZE=2>Conce
 rt de Bols Tibetans amb gongs Tailand&egrave;s.<br/><br/><b>
 Més informació</b><br/><a href="https://www.agenda.ad/acti
 vitat/ordino/musica/concert-de-bols-tibetans-amb-gongs-taila
 ndes">https://www.agenda.ad/activitat/ordino/musica/concert-
 de-bols-tibetans-amb-gongs-tailandes</a><br/><br/><br/><b>Or
 ganitza</b><br/>Comú d'Ordino</FONT></BODY></HTML>
END:VEVENT
END:VCALENDAR