BEGIN:VCALENDAR
VERSION:2.0
METHOD:PUBLISH
PRODID:-//Agenda.ad//NONSGML v1.0//EN
BEGIN:VEVENT
CLASS:PUBLIC
UID:2ee5fd37b9b4556a783001e34c7e7f73@agenda.ad
DTSTAMP:20260419T220201Z
DTSTART:20260226T230000Z
DTEND:20260226T230000Z
SUMMARY:<strong>Concert de Kic Barroc, presentaci&oacute; del nou disc '<em>Ento</em>r'</strong>
DESCRIPTION:\n\nMés informació\nhttps://www.agenda.ad/activitat/ordino
 /musica/concert-reobertura-kic-barroc\n\n\nOrganitza\nÀrea 
 d'Acció Cultural – Ministeri de Cultura, Joventut i Espor
 ts
LOCATION:Auditori Nacional d'Andorra
SEQUENCE:0
TRANSP:OPAQUE
X-ALT-DESC;FMTTYPE=text/html:<!DOCTYPE HTML PUBLIC "-//W3C//DTD HTML 3.2//EN"><HTML><HEAD
 ><TITLE></TITLE></HEAD><BODY><FONT FACE="Arial" SIZE=2><br/>
 <br/><b>Més informació</b><br/><a href="https://www.agenda
 .ad/activitat/ordino/musica/concert-reobertura-kic-barroc">h
 ttps://www.agenda.ad/activitat/ordino/musica/concert-reobert
 ura-kic-barroc</a><br/><br/><br/><b>Organitza</b><br/>Àrea 
 d'Acció Cultural – Ministeri de Cultura, Joventut i Espor
 ts</FONT></BODY></HTML>
END:VEVENT
END:VCALENDAR