BEGIN:VCALENDAR
VERSION:2.0
METHOD:PUBLISH
PRODID:-//Agenda.ad//NONSGML v1.0//EN
BEGIN:VEVENT
CLASS:PUBLIC
UID:05bb8d99ebdd59bdb9da2ca1a5a8bf99@agenda.ad
DTSTAMP:20260419T203114Z
DTSTART:20260116T230000Z
DTEND:20260227T230000Z
SUMMARY:Cota 1300: l'Apr&eacute;s-ski que enc&eacute;n les tardes d'hivern a Ordino
DESCRIPTION:Aprés-Ski\n\nMés informació\nhttps://www.agenda.ad/
 activitat/ordino/musica/cota-1300-l-apres-ski-que-encen-les-
 tardes-d-hivern-a-ordino\nhttps://www.visitordino.com/\n\nOr
 ganitza\nComú d'Ordino
LOCATION:Plaça La Closa
SEQUENCE:0
TRANSP:OPAQUE
X-ALT-DESC;FMTTYPE=text/html:<!DOCTYPE HTML PUBLIC "-//W3C//DTD HTML 3.2//EN"><HTML><HEAD
 ><TITLE></TITLE></HEAD><BODY><FONT FACE="Arial" SIZE=2>Apr&e
 acute;s-Ski<br/><br/><b>Més informació</b><br/><a href="ht
 tps://www.agenda.ad/activitat/ordino/musica/cota-1300-l-apre
 s-ski-que-encen-les-tardes-d-hivern-a-ordino">https://www.ag
 enda.ad/activitat/ordino/musica/cota-1300-l-apres-ski-que-en
 cen-les-tardes-d-hivern-a-ordino</a><br/>https://www.visitor
 dino.com/<br/><br/><b>Organitza</b><br/>Comú d'Ordino</FONT
 ></BODY></HTML>
END:VEVENT
END:VCALENDAR