BEGIN:VCALENDAR
VERSION:2.0
METHOD:PUBLISH
PRODID:-//Agenda.ad//NONSGML v1.0//EN
BEGIN:VEVENT
CLASS:PUBLIC
UID:5a66f1f560825b621e10ba235481d807@agenda.ad
DTSTAMP:20260422T043031Z
DTSTART:20190208T230000Z
DTEND:20190208T230000Z
SUMMARY:ORDINO CL&Agrave;SSIC - 'Winterreise'<strong><em><br /></em></strong>
DESCRIPTION:Ski&Concert\n\nMés informació\nhttps://www.agenda.ad/a
 ctivitat/ordino/musica/ordino-classic-winterreise\nTel.: +37
 6 87 81 73
www.ordinoclassic.ad

info@ordinoclassic.ad

&nbs
 p;\n\nOrganitza\n Comú d’Ordino i Fundació Crèdit Andor
 rà
LOCATION:Auditori Nacional d'Andorra
SEQUENCE:0
TRANSP:OPAQUE
X-ALT-DESC;FMTTYPE=text/html:<!DOCTYPE HTML PUBLIC "-//W3C//DTD HTML 3.2//EN"><HTML><HEAD
 ><TITLE></TITLE></HEAD><BODY><FONT FACE="Arial" SIZE=2><div>
 Ski&amp;Concert<strong><br /></strong></div><br/><br/><b>Mé
 s informació</b><br/><a href="https://www.agenda.ad/activit
 at/ordino/musica/ordino-classic-winterreise">https://www.age
 nda.ad/activitat/ordino/musica/ordino-classic-winterreise</a
 ><br/>Tel.: +376 87 81 73
www.ordinoclassic.ad

info@ordinoc
 lassic.ad

&nbsp;<br/><br/><b>Organitza</b><br/> Comú d’O
 rdino i Fundació Crèdit Andorrà</FONT></BODY></HTML>
END:VEVENT
END:VCALENDAR