BEGIN:VCALENDAR
VERSION:2.0
METHOD:PUBLISH
PRODID:-//Agenda.ad//NONSGML v1.0//EN
BEGIN:VEVENT
CLASS:PUBLIC
UID:cc7789407d777926caf262d40d18dc54@agenda.ad
DTSTAMP:20260424T072453Z
DTSTART:20191231T230000Z
DTEND:20191231T230000Z
SUMMARY:ORDINO CL&Agrave;SSIC &ndash; &lsquo;Concert de Cap d'any, Valsos, polques i molt m&eacute;s&rsquo;
DESCRIPTION:ORDINO CLÀSSIC – ‘Concert de Cap d'any, V
 alsos, polques i molt més’\n\nMés informació\
 nhttps://www.agenda.ad/activitat/ordino/musica/ordino-classi
 c-‘concert-de-cap-d-any-valsos-polques-i-molt-mes\nTel.: +
 376 87 81 73www.ordinoclassic.ad\n\nOrganitza\n Associació 
 Festivals d’Ordino – Comú d’Ordino i Fundació Crèdi
 t Andorrà
LOCATION:Auditori Nacional d'Andorra
SEQUENCE:0
TRANSP:OPAQUE
X-ALT-DESC;FMTTYPE=text/html:<!DOCTYPE HTML PUBLIC "-//W3C//DTD HTML 3.2//EN"><HTML><HEAD
 ><TITLE></TITLE></HEAD><BODY><FONT FACE="Arial" SIZE=2><p>OR
 DINO CL&Agrave;SSIC &ndash; &lsquo;Concert de Cap d'any, Val
 sos, polques i molt m&eacute;s&rsquo;</p><br/><br/><b>Més i
 nformació</b><br/><a href="https://www.agenda.ad/activitat/
 ordino/musica/ordino-classic-‘concert-de-cap-d-any-valsos-
 polques-i-molt-mes">https://www.agenda.ad/activitat/ordino/m
 usica/ordino-classic-‘concert-de-cap-d-any-valsos-polques-
 i-molt-mes</a><br/>Tel.: +376 87 81 73www.ordinoclassic.ad<b
 r/><br/><b>Organitza</b><br/> Associació Festivals d’Ordi
 no – Comú d’Ordino i Fundació Crèdit Andorrà</FONT><
 /BODY></HTML>
END:VEVENT
END:VCALENDAR