BEGIN:VCALENDAR
VERSION:2.0
METHOD:PUBLISH
PRODID:-//Agenda.ad//NONSGML v1.0//EN
BEGIN:VEVENT
CLASS:PUBLIC
UID:db43205e95849909c630ab7f173906ad@agenda.ad
DTSTAMP:20260424T072453Z
DTSTART:20200109T230000Z
DTEND:20200617T220000Z
SUMMARY:Temporada 2020 Auditori Nacional &middot;&nbsp;<strong>Ajornats els concerts de Jordi Botey i El Pot Petit&nbsp;</strong>
DESCRIPTION:Ajornats els concerts de Jordi Botey i El Pot Petit.\n\nMés
  informació\nhttps://www.agenda.ad/activitat/ordino/musica/
 temporada-2020-auditori-nacional\n\n\nOrganitza\nGovern d'An
 dorra
LOCATION:Auditori Nacional d'Andorra
SEQUENCE:0
TRANSP:OPAQUE
X-ALT-DESC;FMTTYPE=text/html:<!DOCTYPE HTML PUBLIC "-//W3C//DTD HTML 3.2//EN"><HTML><HEAD
 ><TITLE></TITLE></HEAD><BODY><FONT FACE="Arial" SIZE=2><stro
 ng>Ajornats els concerts de Jordi Botey i El Pot Petit.</str
 ong><br/><br/><b>Més informació</b><br/><a href="https://w
 ww.agenda.ad/activitat/ordino/musica/temporada-2020-auditori
 -nacional">https://www.agenda.ad/activitat/ordino/musica/tem
 porada-2020-auditori-nacional</a><br/><br/><br/><b>Organitza
 </b><br/>Govern d'Andorra</FONT></BODY></HTML>
END:VEVENT
END:VCALENDAR