BEGIN:VCALENDAR
VERSION:2.0
METHOD:PUBLISH
PRODID:-//Agenda.ad//NONSGML v1.0//EN
BEGIN:VEVENT
CLASS:PUBLIC
UID:07b7381b7d12b2542c8a07048ab94bff@agenda.ad
DTSTAMP:20260419T220617Z
DTSTART:20230308T230000Z
DTEND:20230308T230000Z
SUMMARY:Quim Salvat, gira 'L&rsquo;&uacute;ltim despertar' &middot; Temporada 2023 de l'Auditori Nacional d'Andorra
DESCRIPTION:Presentació en directe i amb tota la banda dels nou t
 emes que formen part del seu tercer treball d’estudi,&
 nbsp;L’últim despertar.\n\nMés informació\nht
 tps://www.agenda.ad/activitat/ordino/musica/temporada-2023-a
 na-16847\n\n\nOrganitza\nGovern d'Andorra
LOCATION:Auditori Nacional d'Andorra
SEQUENCE:0
TRANSP:OPAQUE
X-ALT-DESC;FMTTYPE=text/html:<!DOCTYPE HTML PUBLIC "-//W3C//DTD HTML 3.2//EN"><HTML><HEAD
 ><TITLE></TITLE></HEAD><BODY><FONT FACE="Arial" SIZE=2>Prese
 ntaci&oacute; en directe i amb tota la banda dels nou temes 
 que formen part del seu tercer treball d&rsquo;estudi,&nbsp;
 <em>L&rsquo;&uacute;ltim despertar.</em><br/><br/><b>Més in
 formació</b><br/><a href="https://www.agenda.ad/activitat/o
 rdino/musica/temporada-2023-ana-16847">https://www.agenda.ad
 /activitat/ordino/musica/temporada-2023-ana-16847</a><br/><b
 r/><br/><b>Organitza</b><br/>Govern d'Andorra</FONT></BODY><
 /HTML>
END:VEVENT
END:VCALENDAR