BEGIN:VCALENDAR
VERSION:2.0
METHOD:PUBLISH
PRODID:-//Agenda.ad//NONSGML v1.0//EN
BEGIN:VEVENT
CLASS:PUBLIC
UID:9237ce0cbba83cc894d9a11c3e761baa@agenda.ad
DTSTAMP:20260424T071823Z
DTSTART:20200131T230000Z
DTEND:20200131T230000Z
SUMMARY:Madretomasa &middot;&nbsp;<span>Temporada 2020 Auditori Nacional</span>
DESCRIPTION:\n\nMés informació\nhttps://www.agenda.ad/activitat/ordino
 /musica/temporada-auditori-2020\n\n\nOrganitza\nGovern d'And
 orra
LOCATION:Auditori Nacional d'Andorra
SEQUENCE:0
TRANSP:OPAQUE
X-ALT-DESC;FMTTYPE=text/html:<!DOCTYPE HTML PUBLIC "-//W3C//DTD HTML 3.2//EN"><HTML><HEAD
 ><TITLE></TITLE></HEAD><BODY><FONT FACE="Arial" SIZE=2><br/>
 <br/><b>Més informació</b><br/><a href="https://www.agenda
 .ad/activitat/ordino/musica/temporada-auditori-2020">https:/
 /www.agenda.ad/activitat/ordino/musica/temporada-auditori-20
 20</a><br/><br/><br/><b>Organitza</b><br/>Govern d'Andorra</
 FONT></BODY></HTML>
END:VEVENT
END:VCALENDAR