BEGIN:VCALENDAR
VERSION:2.0
METHOD:PUBLISH
PRODID:-//Agenda.ad//NONSGML v1.0//EN
BEGIN:VEVENT
CLASS:PUBLIC
UID:3fdc0d9ae19d000b5e221e9da0584d60@agenda.ad
DTSTAMP:20260422T003755Z
DTSTART:20191018T220000Z
DTEND:20191018T220000Z
SUMMARY:'T'ho ballar&eacute; amb mantons'
DESCRIPTION:A càrrec del cos de dansa de l'Esbart de le
 s Valls del Nord.\n\nMés informació\nhttps://www.agenda.ad
 /activitat/ordino/teatre-i-dansa/-t-ho-ballare-amb-mantons-\
 n\n\nOrganitza\nEsbart de les Valls del Nord
LOCATION:Auditori Nacional d'Andorra
SEQUENCE:0
TRANSP:OPAQUE
X-ALT-DESC;FMTTYPE=text/html:<!DOCTYPE HTML PUBLIC "-//W3C//DTD HTML 3.2//EN"><HTML><HEAD
 ><TITLE></TITLE></HEAD><BODY><FONT FACE="Arial" SIZE=2>A c&a
 grave;rrec del cos de dansa&nbsp;de&nbsp;l'Esbart de les Val
 ls del Nord.<br/><br/><b>Més informació</b><br/><a href="h
 ttps://www.agenda.ad/activitat/ordino/teatre-i-dansa/-t-ho-b
 allare-amb-mantons-">https://www.agenda.ad/activitat/ordino/
 teatre-i-dansa/-t-ho-ballare-amb-mantons-</a><br/><br/><br/>
 <b>Organitza</b><br/>Esbart de les Valls del Nord</FONT></BO
 DY></HTML>
END:VEVENT
END:VCALENDAR