BEGIN:VCALENDAR
VERSION:2.0
METHOD:PUBLISH
PRODID:-//Agenda.ad//NONSGML v1.0//EN
BEGIN:VEVENT
CLASS:PUBLIC
UID:b3d70199523eeb3e863d5e58b0d87f3b@agenda.ad
DTSTAMP:20191122T230917Z
DTSTART:20191206T230000Z
DTEND:20191206T230000Z
SUMMARY:Contacontes en franc&egrave;s <strong>"Divers contes d'hiver"</strong>, a c&agrave;rrec de <strong>Terre de Lune</strong>
DESCRIPTION:\n\nMés informació\nhttps://www.agenda.ad/activitat/sant-j
 ulia-de-loria/activitats-infantils/contacontes-en-frances-di
 vers-contes-d-hiver-a-carrec-de-terre-de-lune\n\n\nOrganitza
 \nBiblioteca Comunal Universitària de Sant Julià de Lòria
LOCATION:Biblioteca Comunal Universitària
SEQUENCE:0
TRANSP:OPAQUE
X-ALT-DESC;FMTTYPE=text/html:<!DOCTYPE HTML PUBLIC "-//W3C//DTD HTML 3.2//EN"><HTML><HEAD
 ><TITLE></TITLE></HEAD><BODY><FONT FACE="Arial" SIZE=2><br/>
 <br/><b>Més informació</b><br/><a href="https://www.agenda
 .ad/activitat/sant-julia-de-loria/activitats-infantils/conta
 contes-en-frances-divers-contes-d-hiver-a-carrec-de-terre-de
 -lune">https://www.agenda.ad/activitat/sant-julia-de-loria/a
 ctivitats-infantils/contacontes-en-frances-divers-contes-d-h
 iver-a-carrec-de-terre-de-lune</a><br/><br/><br/><b>Organitz
 a</b><br/>Biblioteca Comunal Universitària de Sant Julià d
 e Lòria</FONT></BODY></HTML>
END:VEVENT
END:VCALENDAR