BEGIN:VCALENDAR
VERSION:2.0
METHOD:PUBLISH
PRODID:-//Agenda.ad//NONSGML v1.0//EN
BEGIN:VEVENT
CLASS:PUBLIC
UID:8b4aa936345669db1cab9c76d706feef@agenda.ad
DTSTAMP:20260424T123230Z
DTSTART:20191206T230000Z
DTEND:20191206T230000Z
SUMMARY:Joc d'escapada del Museu del Tabac
DESCRIPTION:Joc d'escapa familiar.\n\nMés informació\nhttps://www.agen
 da.ad/activitat/sant-julia-de-loria/activitats-infantils/joc
 -d-escapada-del-museu-del-tabac\n\n\nOrganitza\nMuseu del Ta
 bac - Antiga Fàbrica Reig
LOCATION:Museu Fàbrica Reig
SEQUENCE:0
TRANSP:OPAQUE
X-ALT-DESC;FMTTYPE=text/html:<!DOCTYPE HTML PUBLIC "-//W3C//DTD HTML 3.2//EN"><HTML><HEAD
 ><TITLE></TITLE></HEAD><BODY><FONT FACE="Arial" SIZE=2>Joc d
 'escapa familiar.<br/><br/><b>Més informació</b><br/><a hr
 ef="https://www.agenda.ad/activitat/sant-julia-de-loria/acti
 vitats-infantils/joc-d-escapada-del-museu-del-tabac">https:/
 /www.agenda.ad/activitat/sant-julia-de-loria/activitats-infa
 ntils/joc-d-escapada-del-museu-del-tabac</a><br/><br/><br/><
 b>Organitza</b><br/>Museu del Tabac - Antiga Fàbrica Reig</
 FONT></BODY></HTML>
END:VEVENT
END:VCALENDAR