BEGIN:VCALENDAR
VERSION:2.0
METHOD:PUBLISH
PRODID:-//Agenda.ad//NONSGML v1.0//EN
BEGIN:VEVENT
CLASS:PUBLIC
UID:f551b13f42efa799fafcfc72597a1280@agenda.ad
DTSTAMP:20260419T162919Z
DTSTART:20260327T230000Z
DTEND:20260327T230000Z
SUMMARY:Nascuts per llegir " Pim, pam, flors"
DESCRIPTION:\n\nMés informació\nhttps://www.agenda.ad/activitat/sant-j
 ulia-de-loria/activitats-infantils/nascuts-per-llegir-pim-pa
 m-flors\n
LOCATION:Biblioteca del Centre Cultural Lauredià
SEQUENCE:0
TRANSP:OPAQUE
X-ALT-DESC;FMTTYPE=text/html:<!DOCTYPE HTML PUBLIC "-//W3C//DTD HTML 3.2//EN"><HTML><HEAD
 ><TITLE></TITLE></HEAD><BODY><FONT FACE="Arial" SIZE=2><br/>
 <br/><b>Més informació</b><br/><a href="https://www.agenda
 .ad/activitat/sant-julia-de-loria/activitats-infantils/nascu
 ts-per-llegir-pim-pam-flors">https://www.agenda.ad/activitat
 /sant-julia-de-loria/activitats-infantils/nascuts-per-llegir
 -pim-pam-flors</a><br/></FONT></BODY></HTML>
END:VEVENT
END:VCALENDAR