BEGIN:VCALENDAR
VERSION:2.0
METHOD:PUBLISH
PRODID:-//Agenda.ad//NONSGML v1.0//EN
BEGIN:VEVENT
CLASS:PUBLIC
UID:6c79cf007074cc4776c9579bb124a4ed@agenda.ad
DTSTAMP:20260422T003928Z
DTSTART:20191015T220000Z
DTEND:20191015T220000Z
SUMMARY:Crisi clim&agrave;tica: necessitat d&rsquo;una acci&oacute; col&middot;lectiva urgent
DESCRIPTION:\n\nMés informació\nhttps://www.agenda.ad/activitat/sant-j
 ulia-de-loria/conferencies/ramaders-d-andorra-sa-i-una-igp-d
 alcada-al-pais-dels-pirineus\n\n\nOrganitza\nInstitut d’Es
 tudis Andorrans
LOCATION:Sala d'actes del Centre de Formació Professional
SEQUENCE:0
TRANSP:OPAQUE
X-ALT-DESC;FMTTYPE=text/html:<!DOCTYPE HTML PUBLIC "-//W3C//DTD HTML 3.2//EN"><HTML><HEAD
 ><TITLE></TITLE></HEAD><BODY><FONT FACE="Arial" SIZE=2><br/>
 <br/><b>Més informació</b><br/><a href="https://www.agenda
 .ad/activitat/sant-julia-de-loria/conferencies/ramaders-d-an
 dorra-sa-i-una-igp-dalcada-al-pais-dels-pirineus">https://ww
 w.agenda.ad/activitat/sant-julia-de-loria/conferencies/ramad
 ers-d-andorra-sa-i-una-igp-dalcada-al-pais-dels-pirineus</a>
 <br/><br/><br/><b>Organitza</b><br/>Institut d’Estudis And
 orrans</FONT></BODY></HTML>
END:VEVENT
END:VCALENDAR