BEGIN:VCALENDAR
VERSION:2.0
METHOD:PUBLISH
PRODID:-//Agenda.ad//NONSGML v1.0//EN
BEGIN:VEVENT
CLASS:PUBLIC
UID:c4c21664da711146c89437d6942edde1@agenda.ad
DTSTAMP:20260424T092847Z
DTSTART:20200107T230000Z
DTEND:20200624T220000Z
SUMMARY:CUINA PER A A<span style="background-color: #ffffff;">DOLESCENTS</span>
DESCRIPTION:Curs de cuina per a adolescents.\n\nMés informació\nhttps:
 //www.agenda.ad/activitat/sant-julia-de-loria/cursos-i-talle
 rs/cuina-per-adolescents\n\n\nOrganitza\nEscola d'Art de San
 t Julià de Lòria
LOCATION:Espai cuina de l'Escola d'Art de Sant Julià de Lòria
SEQUENCE:0
TRANSP:OPAQUE
X-ALT-DESC;FMTTYPE=text/html:<!DOCTYPE HTML PUBLIC "-//W3C//DTD HTML 3.2//EN"><HTML><HEAD
 ><TITLE></TITLE></HEAD><BODY><FONT FACE="Arial" SIZE=2>Curs 
 de cuina per a adolescents.<br/><br/><b>Més informació</b>
 <br/><a href="https://www.agenda.ad/activitat/sant-julia-de-
 loria/cursos-i-tallers/cuina-per-adolescents">https://www.ag
 enda.ad/activitat/sant-julia-de-loria/cursos-i-tallers/cuina
 -per-adolescents</a><br/><br/><br/><b>Organitza</b><br/>Esco
 la d'Art de Sant Julià de Lòria</FONT></BODY></HTML>
END:VEVENT
END:VCALENDAR