BEGIN:VCALENDAR
VERSION:2.0
METHOD:PUBLISH
PRODID:-//Agenda.ad//NONSGML v1.0//EN
BEGIN:VEVENT
CLASS:PUBLIC
UID:cf69930bae6f5e1c9213612836eea17c@agenda.ad
DTSTAMP:20260422T015855Z
DTSTART:20191008T220000Z
DTEND:20191008T220000Z
SUMMARY:'Passejant amb el Dr. Dur&oacute; per les esgl&eacute;sies d&rsquo;andorra de fa 50 anys'
DESCRIPTION:\n\nMés informació\nhttps://www.agenda.ad/activitat/sant-j
 ulia-de-loria/exposicions/-passejant-amb-el-dr-duro-per-les-
 esglesies-dandorra-de-fa-50-anys-\nwww.cenma.ad  (+376)
  742 630\n\nOrganitza\nInstitut d’Estudis Andorrans i Cent
 re de Formació d’Adults
LOCATION:Sala d'actes del Centre de Formació Professional
SEQUENCE:0
TRANSP:OPAQUE
X-ALT-DESC;FMTTYPE=text/html:<!DOCTYPE HTML PUBLIC "-//W3C//DTD HTML 3.2//EN"><HTML><HEAD
 ><TITLE></TITLE></HEAD><BODY><FONT FACE="Arial" SIZE=2><br/>
 <br/><b>Més informació</b><br/><a href="https://www.agenda
 .ad/activitat/sant-julia-de-loria/exposicions/-passejant-amb
 -el-dr-duro-per-les-esglesies-dandorra-de-fa-50-anys-">https
 ://www.agenda.ad/activitat/sant-julia-de-loria/exposicions/-
 passejant-amb-el-dr-duro-per-les-esglesies-dandorra-de-fa-50
 -anys-</a><br/>www.cenma.ad&nbsp; (+376) 742 630<br/><br/><b
 >Organitza</b><br/>Institut d’Estudis Andorrans i Centre d
 e Formació d’Adults</FONT></BODY></HTML>
END:VEVENT
END:VCALENDAR