BEGIN:VCALENDAR
VERSION:2.0
METHOD:PUBLISH
PRODID:-//Agenda.ad//NONSGML v1.0//EN
BEGIN:VEVENT
CLASS:PUBLIC
UID:11657de02efd1e501b866790764efe07@agenda.ad
DTSTAMP:20260420T163150Z
DTSTART:20251021T220000Z
DTEND:20251113T230000Z
SUMMARY:Dones clau per a la hist&ograve;ria d'Andorra - Les sufragistes andorranes
DESCRIPTION:Dones clau per a la histÃ²ria d'Andorra - Les sufragis
 tes andorranes\n\nMÃ©s informaciÃ³\nhttps://www.agenda.ad/ac
 tivitat/sant-julia-de-loria/exposicions/dones-clau-per-a-la-
 historia-d-andorra-les-sufragistes-andorranes\n\n\nOrganitza
 \nComÃº de Sant JuliÃ  de LÃ²ria
LOCATION:Sala Sergi Mas
SEQUENCE:0
TRANSP:OPAQUE
X-ALT-DESC;FMTTYPE=text/html:<!DOCTYPE HTML PUBLIC "-//W3C//DTD HTML 3.2//EN"><HTML><HEAD
 ><TITLE></TITLE></HEAD><BODY><FONT FACE="Arial" SIZE=2>Dones
  clau per a la hist&ograve;ria d'Andorra - Les sufragistes a
 ndorranes<br/><br/><b>MÃ©s informaciÃ³</b><br/><a href="http
 s://www.agenda.ad/activitat/sant-julia-de-loria/exposicions/
 dones-clau-per-a-la-historia-d-andorra-les-sufragistes-andor
 ranes">https://www.agenda.ad/activitat/sant-julia-de-loria/e
 xposicions/dones-clau-per-a-la-historia-d-andorra-les-sufrag
 istes-andorranes</a><br/><br/><br/><b>Organitza</b><br/>ComÃ
 º de Sant JuliÃ  de LÃ²ria</FONT></BODY></HTML>
END:VEVENT
END:VCALENDAR