BEGIN:VCALENDAR
VERSION:2.0
METHOD:PUBLISH
PRODID:-//Agenda.ad//NONSGML v1.0//EN
BEGIN:VEVENT
CLASS:PUBLIC
UID:3ba51a437f98ed997e7aa250263acc2c@agenda.ad
DTSTAMP:20260424T085753Z
DTSTART:20191103T230000Z
DTEND:20191117T230000Z
SUMMARY:'Castellers d'Andorra. 5 anys fent pinya'
DESCRIPTION:5è aniversari dels Castellers d’Andorra.\n\nMé
 s informació\nhttps://www.agenda.ad/activitat/sant-julia-de
 -loria/exposicions/exposicio-castellers-d-andorra-5-anys-fen
 t-pinya-\n\n\nOrganitza\nCastellers d'Andorra
LOCATION:Centre Cultural Lauredià
SEQUENCE:0
TRANSP:OPAQUE
X-ALT-DESC;FMTTYPE=text/html:<!DOCTYPE HTML PUBLIC "-//W3C//DTD HTML 3.2//EN"><HTML><HEAD
 ><TITLE></TITLE></HEAD><BODY><FONT FACE="Arial" SIZE=2>5&egr
 ave; aniversari dels Castellers d&rsquo;Andorra.<br/><br/><b
 >Més informació</b><br/><a href="https://www.agenda.ad/act
 ivitat/sant-julia-de-loria/exposicions/exposicio-castellers-
 d-andorra-5-anys-fent-pinya-">https://www.agenda.ad/activita
 t/sant-julia-de-loria/exposicions/exposicio-castellers-d-and
 orra-5-anys-fent-pinya-</a><br/><br/><br/><b>Organitza</b><b
 r/>Castellers d'Andorra</FONT></BODY></HTML>
END:VEVENT
END:VCALENDAR