BEGIN:VCALENDAR
VERSION:2.0
METHOD:PUBLISH
PRODID:-//Agenda.ad//NONSGML v1.0//EN
BEGIN:VEVENT
CLASS:PUBLIC
UID:f9727412d41babc7f61eee7f5356cf45@agenda.ad
DTSTAMP:20260424T074757Z
DTSTART:20191114T230000Z
DTEND:20200125T230000Z
SUMMARY:"Fotografia cient&iacute;fica"
DESCRIPTION:\n\nMés informació\nhttps://www.agenda.ad/activitat/sant-j
 ulia-de-loria/exposicions/fotografia-cientifica\n\n\nOrganit
 za\nMuseu del Tabac - Antiga Fàbrica Reig
LOCATION:Museu Fàbrica Reig
SEQUENCE:0
TRANSP:OPAQUE
X-ALT-DESC;FMTTYPE=text/html:<!DOCTYPE HTML PUBLIC "-//W3C//DTD HTML 3.2//EN"><HTML><HEAD
 ><TITLE></TITLE></HEAD><BODY><FONT FACE="Arial" SIZE=2><br/>
 <br/><b>Més informació</b><br/><a href="https://www.agenda
 .ad/activitat/sant-julia-de-loria/exposicions/fotografia-cie
 ntifica">https://www.agenda.ad/activitat/sant-julia-de-loria
 /exposicions/fotografia-cientifica</a><br/><br/><br/><b>Orga
 nitza</b><br/>Museu del Tabac - Antiga Fàbrica Reig</FONT><
 /BODY></HTML>
END:VEVENT
END:VCALENDAR