BEGIN:VCALENDAR
VERSION:2.0
METHOD:PUBLISH
PRODID:-//Agenda.ad//NONSGML v1.0//EN
BEGIN:VEVENT
CLASS:PUBLIC
UID:34c34b83088dd293ee1b9b0da121e458@agenda.ad
DTSTAMP:20260422T043201Z
DTSTART:20190210T230000Z
DTEND:20190213T230000Z
SUMMARY:Taller de confecci&oacute; del Carnestoltes
DESCRIPTION:\n\nMés informació\nhttps://www.agenda.ad/activitat/sant-j
 ulia-de-loria/festes-i-tradicions/taller-de-confeccio-del-ca
 rnestoltes\n
LOCATION:Escola d’Art de Sant Julià de Lòria
SEQUENCE:0
TRANSP:OPAQUE
X-ALT-DESC;FMTTYPE=text/html:<!DOCTYPE HTML PUBLIC "-//W3C//DTD HTML 3.2//EN"><HTML><HEAD
 ><TITLE></TITLE></HEAD><BODY><FONT FACE="Arial" SIZE=2><br/>
 <br/><b>Més informació</b><br/><a href="https://www.agenda
 .ad/activitat/sant-julia-de-loria/festes-i-tradicions/taller
 -de-confeccio-del-carnestoltes">https://www.agenda.ad/activi
 tat/sant-julia-de-loria/festes-i-tradicions/taller-de-confec
 cio-del-carnestoltes</a><br/></FONT></BODY></HTML>
END:VEVENT
END:VCALENDAR